0.0500000000
0.0000000000
0.0000000000
-0.0500000000
466000.0250000000
3334999.9750000001
