0.0500000000
0.0000000000
0.0000000000
-0.0500000000
464000.0250000000
3339999.9750000001
