0.0500000000
0.0000000000
0.0000000000
-0.0500000000
463000.0250000000
3342999.9750000001
