0.0500000000
0.0000000000
0.0000000000
-0.0500000000
499000.0250000000
3235999.9750000001
