0.0500000000
0.0000000000
0.0000000000
-0.0500000000
498000.0250000000
3233999.9750000001
