0.0500000000
0.0000000000
0.0000000000
-0.0500000000
497000.0250000000
3238999.9750000001
