0.0500000000
0.0000000000
0.0000000000
-0.0500000000
495000.0250000000
3243999.9750000001
