0.0500000000
0.0000000000
0.0000000000
-0.0500000000
494000.0250000000
3241999.9750000001
