0.0500000000
0.0000000000
0.0000000000
-0.0500000000
493000.0250000000
3246999.9750000001
