0.0500000000
0.0000000000
0.0000000000
-0.0500000000
492000.0250000000
3250999.9750000001
