0.0500000000
0.0000000000
0.0000000000
-0.0500000000
490000.0250000000
3255999.9750000001
