0.0500000000
0.0000000000
0.0000000000
-0.0500000000
488000.0250000000
3260999.9750000001
