0.0500000000
0.0000000000
0.0000000000
-0.0500000000
486000.0250000000
3261999.9750000001
