0.0500000000
0.0000000000
0.0000000000
-0.0500000000
485000.0250000000
3267999.9750000001
