0.0500000000
0.0000000000
0.0000000000
-0.0500000000
484000.0250000000
3271999.9750000001
