0.0500000000
0.0000000000
0.0000000000
-0.0500000000
482000.0250000000
3272999.9750000001
