0.0500000000
0.0000000000
0.0000000000
-0.0500000000
481000.0250000000
3277999.9750000001
