0.0500000000
0.0000000000
0.0000000000
-0.0500000000
480000.0250000000
3280999.9750000001
