0.0500000000
0.0000000000
0.0000000000
-0.0500000000
479000.0250000000
3281999.9750000001
