0.0500000000
0.0000000000
0.0000000000
-0.0500000000
478000.0250000000
3287999.9750000001
