0.0500000000
0.0000000000
0.0000000000
-0.0500000000
477000.0250000000
3286999.9750000001
