0.0500000000
0.0000000000
0.0000000000
-0.0500000000
475000.0250000000
3296999.9750000001
