<VRTDataset rasterXSize="2300000" rasterYSize="5260000"> <SRS dataAxisToSRSAxisMapping="1,2">PROJCS["NAD83 / UTM zone 17N",GEOGCS["NAD83",DATUM["North_American_Datum_1983",SPHEROID["GRS 1980",6378137,298.257222101,AUTHORITY["EPSG","7019"]],AUTHORITY["EPSG","6269"]],PRIMEM["Greenwich",0,AUTHORITY["EPSG","8901"]],UNIT["degree",0.0174532925199433,AUTHORITY["EPSG","9122"]],AUTHORITY["EPSG","4269"]],PROJECTION["Transverse_Mercator"],PARAMETER["latitude_of_origin",0],PARAMETER["central_meridian",-81],PARAMETER["scale_factor",0.9996],PARAMETER["false_easting",500000],PARAMETER["false_northing",0],UNIT["metre",1,AUTHORITY["EPSG","9001"]],AXIS["Easting",EAST],AXIS["Northing",NORTH],AUTHORITY["EPSG","26917"]]</SRS> <GeoTransform> 3.1500000000000000e+05, 5.0000000000000003e-02, 0.0000000000000000e+00, 3.1270000000000000e+06, 0.0000000000000000e+00, -5.0000000000000003e-02</GeoTransform> <VRTRasterBand dataType="Byte" band="1"> <NoDataValue>0</NoDataValue> <ColorInterp>Red</ColorInterp> <ComplexSource> <SourceFilename relativeToVRT="1">./2024_FEMA_FL_17RLL2173_RGBN.tif</SourceFilename> <SourceBand>1</SourceBand> <SourceProperties RasterXSize="20000" RasterYSize="20000" DataType="Byte" BlockXSize="512" BlockYSize="512" /> <SrcRect xOff="0" yOff="0" xSize="20000" ySize="20000" /> <DstRect xOff="120000" yOff="1060000" xSize="20000" ySize="20000" /> <NODATA>0</NODATA> </ComplexSource> <ComplexSource> <SourceFilename relativeToVRT="1">./2024_FEMA_FL_17RLL2081_RGBN.tif</SourceFilename> <SourceBand>1</SourceBand> <SourceProperties RasterXSize="20000" RasterYSize="20000" DataType="Byte" BlockXSize="512" BlockYSize="512" /> <SrcRect xOff="0" yOff="0" xSize="20000" ySize="20000" /> <DstRect xOff="100000" yOff="900000" xSize="20000" ySize="20000" /> <NODATA>0</NODATA> </ComplexSource> <ComplexSource> <SourceFilename relativeToVRT="1">./2024_FEMA_FL_17RLM2121_RGBN.tif</SourceFilename> <SourceBand>1</SourceBand> <SourceProperties RasterXSize="20000" RasterYSize="20000" DataType="Byte" BlockXSize="512" BlockYSize="512" /> <SrcRect xOff="0" yOff="0" xSize="20000" ySize="20000" /> <DstRect xOff="120000" yOff="100000" xSize="20000" ySize="20000" /> <NODATA>0</NODATA> </ComplexSource> <ComplexSource> <SourceFilename relativeToVRT="1">./2024_FEMA_FL_17RLL2080_RGBN.tif</SourceFilename> <SourceBand>1</SourceBand> <SourceProperties RasterXSize="20000" RasterYSize="20000" DataType="Byte" BlockXSize="512" BlockYSize="512" /> <SrcRect xOff="0" yOff="0" xSize="20000" ySize="20000" /> <DstRect xOff="100000" yOff="920000" xSize="20000" ySize="20000" /> <NODATA>0</NODATA> </ComplexSource> <ComplexSource> <SourceFilename relativeToVRT="1">./2024_FEMA_FL_17RLL3135_RGBN.tif</SourceFilename> <SourceBand>1</SourceBand> <SourceProperties RasterXSize="20000" RasterYSize="20000" DataType="Byte" BlockXSize="512" BlockYSize="512" /> <SrcRect xOff="0" yOff="0" xSize="20000" ySize="20000" /> <DstRect xOff="320000" yOff="1820000" xSize="20000" ySize="20000" /> <NODATA>0</NODATA> </ComplexSource> <ComplexSource> <SourceFilename relativeToVRT="1">./2024_FEMA_FL_17RLL3233_RGBN.tif</SourceFilename> <SourceBand>1</SourceBand> <SourceProperties RasterXSize="20000" RasterYSize="20000" DataType="Byte" BlockXSize="512" BlockYSize="512" /> <SrcRect xOff="0" yOff="0" xSize="20000" ySize="20000" /> <DstRect xOff="340000" yOff="1860000" xSize="20000" ySize="20000" /> <NODATA>0</NODATA> </ComplexSource> <ComplexSource> <SourceFilename relativeToVRT="1">./2024_FEMA_FL_17RLL3234_RGBN.tif</SourceFilename> <SourceBand>1</SourceBand> <SourceProperties RasterXSize="20000" RasterYSize="20000" DataType="Byte" BlockXSize="512" BlockYSize="512" /> <SrcRect xOff="0" yOff="0" xSize="20000" ySize="20000" /> <DstRect xOff="340000" yOff="1840000" xSize="20000" ySize="20000" /> <NODATA>0</NODATA> </ComplexSource> <ComplexSource> <SourceFilename relativeToVRT="1">./2024_FEMA_FL_17RLL3235_RGBN.tif</SourceFilename> <SourceBand>1</SourceBand> <SourceProperties RasterXSize="20000" RasterYSize="20000" DataType="Byte" BlockXSize="512" BlockYSize="512" /> <SrcRect xOff="0" yOff="0" xSize="20000" ySize="20000" /> <DstRect xOff="340000" yOff="1820000" xSize="20000" ySize="20000" /> <NODATA>0</NODATA> </ComplexSource> <ComplexSource> <SourceFilename relativeToVRT="1">./2024_FEMA_FL_17RLL3236_RGBN.tif</SourceFilename> <SourceBand>1</SourceBand> <SourceProperties RasterXSize="20000" RasterYSize="20000" DataType="Byte" BlockXSize="512" BlockYSize="512" /> <SrcRect xOff="0" yOff="0" xSize="20000" ySize="20000" /> <DstRect xOff="340000" yOff="1800000" xSize="20000" ySize="20000" /> <NODATA>0</NODATA> </ComplexSource> <ComplexSource> <SourceFilename relativeToVRT="1">./2024_FEMA_FL_17RLL3332_RGBN.tif</SourceFilename> <SourceBand>1</SourceBand> <SourceProperties RasterXSize="20000" RasterYSize="20000" DataType="Byte" BlockXSize="512" BlockYSize="512" /> <SrcRect xOff="0" yOff="0" xSize="20000" ySize="20000" /> <DstRect xOff="360000" yOff="1880000" xSize="20000" ySize="20000" /> <NODATA>0</NODATA> </ComplexSource> <ComplexSource> <SourceFilename relativeToVRT="1">./2024_FEMA_FL_17RLL3333_RGBN.tif</SourceFilename> <SourceBand>1</SourceBand> <SourceProperties RasterXSize="20000" RasterYSize="20000" DataType="Byte" BlockXSize="512" BlockYSize="512" /> <SrcRect xOff="0" yOff="0" xSize="20000" ySize="20000" /> <DstRect xOff="360000" yOff="1860000" xSize="20000" ySize="20000" /> <NODATA>0</NODATA> </ComplexSource> <ComplexSource> <SourceFilename relativeToVRT="1">./2024_FEMA_FL_17RLL3334_RGBN.tif</SourceFilename> <SourceBand>1</SourceBand> <SourceProperties RasterXSize="20000" RasterYSize="20000" DataType="Byte" BlockXSize="512" BlockYSize="512" /> <SrcRect xOff="0" yOff="0" xSize="20000" ySize="20000" /> <DstRect xOff="360000" yOff="1840000" xSize="20000" ySize="20000" /> <NODATA>0</NODATA> </ComplexSource> <ComplexSource> <SourceFilename relativeToVRT="1">./2024_FEMA_FL_17RLL3335_RGBN.tif</SourceFilename> <SourceBand>1</SourceBand> <SourceProperties RasterXSize="20000" RasterYSize="20000" DataType="Byte" BlockXSize="512" BlockYSize="512" /> <SrcRect xOff="0" yOff="0" xSize="20000" ySize="20000" /> <DstRect xOff="360000" yOff="1820000" xSize="20000" ySize="20000" /> <NODATA>0</NODATA> </ComplexSource> <ComplexSource> <SourceFilename relativeToVRT="1">./2024_FEMA_FL_17RLL3336_RGBN.tif</SourceFilename> <SourceBand>1</SourceBand> <SourceProperties RasterXSize="20000" RasterYSize="20000" DataType="Byte" BlockXSize="512" BlockYSize="512" /> <SrcRect xOff="0" yOff="0" xSize="20000" ySize="20000" /> <DstRect xOff="360000" yOff="1800000" xSize="20000" ySize="20000" /> <NODATA>0</NODATA> </ComplexSource> <ComplexSource> <SourceFilename relativeToVRT="1">./2024_FEMA_FL_17RLL3430_RGBN.tif</SourceFilename> <SourceBand>1</SourceBand> <SourceProperties RasterXSize="20000" RasterYSize="20000" DataType="Byte" BlockXSize="512" BlockYSize="512" /> <SrcRect xOff="0" yOff="0" xSize="20000" ySize="20000" /> <DstRect xOff="380000" yOff="1920000" xSize="20000" ySize="20000" /> <NODATA>0</NODATA> </ComplexSource> <ComplexSource> <SourceFilename relativeToVRT="1">./2024_FEMA_FL_17RLL3431_RGBN.tif</SourceFilename> <SourceBand>1</SourceBand> <SourceProperties RasterXSize="20000" RasterYSize="20000" DataType="Byte" BlockXSize="512" BlockYSize="512" /> <SrcRect xOff="0" yOff="0" xSize="20000" ySize="20000" /> <DstRect xOff="380000" yOff="1900000" xSize="20000" ySize="20000" /> <NODATA>0</NODATA> </ComplexSource> <ComplexSource> <SourceFilename relativeToVRT="1">./2024_FEMA_FL_17RLL3432_RGBN.tif</SourceFilename> <SourceBand>1</SourceBand> <SourceProperties RasterXSize="20000" RasterYSize="20000" DataType="Byte" BlockXSize="512" BlockYSize="512" /> <SrcRect xOff="0" yOff="0" xSize="20000" ySize="20000" /> <DstRect xOff="380000" yOff="1880000" xSize="20000" ySize="20000" /> <NODATA>0</NODATA> </ComplexSource> <ComplexSource> <SourceFilename relativeToVRT="1">./2024_FEMA_FL_17RLL3433_RGBN.tif</SourceFilename> <SourceBand>1</SourceBand> <SourceProperties RasterXSize="20000" RasterYSize="20000" DataType="Byte" BlockXSize="512" BlockYSize="512" /> <SrcRect xOff="0" yOff="0" xSize="20000" ySize="20000" /> <DstRect xOff="380000" yOff="1860000" xSize="20000" ySize="20000" /> <NODATA>0</NODATA> </ComplexSource> <ComplexSource> <SourceFilename relativeToVRT="1">./2024_FEMA_FL_17RLL3434_RGBN.tif</SourceFilename> <SourceBand>1</SourceBand> <SourceProperties RasterXSize="20000" RasterYSize="20000" DataType="Byte" BlockXSize="512" BlockYSize="512" /> <SrcRect xOff="0" yOff="0" xSize="20000" ySize="20000" /> <DstRect xOff="380000" yOff="1840000" xSize="20000" ySize="20000" /> <NODATA>0</NODATA> </ComplexSource> <ComplexSource> <SourceFilename relativeToVRT="1">./2024_FEMA_FL_17RLL3435_RGBN.tif</SourceFilename> <SourceBand>1</SourceBand> <SourceProperties RasterXSize="20000" RasterYSize="20000" DataType="Byte" BlockXSize="512" BlockYSize="512" /> <SrcRect xOff="0" yOff="0" xSize="20000" ySize="20000" /> <DstRect xOff="380000" yOff="1820000" xSize="20000" ySize="20000" /> <NODATA>0</NODATA> </ComplexSource> <ComplexSource> <SourceFilename relativeToVRT="1">./2024_FEMA_FL_17RLL3436_RGBN.tif</SourceFilename> <SourceBand>1</SourceBand> <SourceProperties RasterXSize="20000" RasterYSize="20000" DataType="Byte" BlockXSize="512" BlockYSize="512" /> <SrcRect xOff="0" yOff="0" xSize="20000" ySize="20000" /> <DstRect xOff="380000" yOff="1800000" xSize="20000" ySize="20000" /> <NODATA>0</NODATA> </ComplexSource> <ComplexSource> <SourceFilename relativeToVRT="1">./2024_FEMA_FL_17RLL3529_RGBN.tif</SourceFilename> <SourceBand>1</SourceBand> <SourceProperties RasterXSize="20000" RasterYSize="20000" DataType="Byte" BlockXSize="512" BlockYSize="512" /> <SrcRect xOff="0" yOff="0" xSize="20000" ySize="20000" /> <DstRect xOff="400000" yOff="1940000" xSize="20000" ySize="20000" /> <NODATA>0</NODATA> </ComplexSource> <ComplexSource> <SourceFilename relativeToVRT="1">./2024_FEMA_FL_17RLL3530_RGBN.tif</SourceFilename> <SourceBand>1</SourceBand> <SourceProperties RasterXSize="20000" RasterYSize="20000" DataType="Byte" BlockXSize="512" BlockYSize="512" /> <SrcRect xOff="0" yOff="0" xSize="20000" ySize="20000" /> <DstRect xOff="400000" yOff="1920000" xSize="20000" ySize="20000" /> <NODATA>0</NODATA> </ComplexSource> <ComplexSource> <SourceFilename relativeToVRT="1">./2024_FEMA_FL_17RLL3531_RGBN.tif</SourceFilename> <SourceBand>1</SourceBand> <SourceProperties RasterXSize="20000" RasterYSize="20000" DataType="Byte" BlockXSize="512" BlockYSize="512" /> <SrcRect xOff="0" yOff="0" xSize="20000" ySize="20000" /> <DstRect xOff="400000" yOff="1900000" xSize="20000" ySize="20000" /> <NODATA>0</NODATA> </ComplexSource> <ComplexSource> <SourceFilename relativeToVRT="1">./2024_FEMA_FL_17RLL3532_RGBN.tif</SourceFilename> <SourceBand>1</SourceBand> <SourceProperties RasterXSize="20000" RasterYSize="20000" DataType="Byte" BlockXSize="512" BlockYSize="512" /> <SrcRect xOff="0" yOff="0" xSize="20000" ySize="20000" /> <DstRect xOff="400000" yOff="1880000" xSize="20000" ySize="20000" /> <NODATA>0</NODATA> </ComplexSource> <ComplexSource> <SourceFilename relativeToVRT="1">./2024_FEMA_FL_17RLL3533_RGBN.tif</SourceFilename> <SourceBand>1</SourceBand> <SourceProperties RasterXSize="20000" RasterYSize="20000" DataType="Byte" BlockXSize="512" BlockYSize="512" /> <SrcRect xOff="0" yOff="0" xSize="20000" ySize="20000" /> <DstRect xOff="400000" yOff="1860000" xSize="20000" ySize="20000" /> <NODATA>0</NODATA> </ComplexSource> <ComplexSource> <SourceFilename relativeToVRT="1">./2024_FEMA_FL_17RLL3534_RGBN.tif</SourceFilename> <SourceBand>1</SourceBand> <SourceProperties RasterXSize="20000" RasterYSize="20000" DataType="Byte" BlockXSize="512" BlockYSize="512" /> <SrcRect xOff="0" yOff="0" xSize="20000" ySize="20000" /> <DstRect xOff="400000" yOff="1840000" xSize="20000" ySize="20000" /> <NODATA>0</NODATA> </ComplexSource> <ComplexSource> <SourceFilename relativeToVRT="1">./2024_FEMA_FL_17RLL3535_RGBN.tif</SourceFilename> <SourceBand>1</SourceBand> <SourceProperties RasterXSize="20000" RasterYSize="20000" DataType="Byte" BlockXSize="512" BlockYSize="512" /> <SrcRect xOff="0" yOff="0" xSize="20000" ySize="20000" /> <DstRect xOff="400000" yOff="1820000" xSize="20000" ySize="20000" /> <NODATA>0</NODATA> </ComplexSource> <ComplexSource> <SourceFilename relativeToVRT="1">./2024_FEMA_FL_17RLL3627_RGBN.tif</SourceFilename> <SourceBand>1</SourceBand> <SourceProperties RasterXSize="20000" RasterYSize="20000" DataType="Byte" BlockXSize="512" BlockYSize="512" /> <SrcRect xOff="0" yOff="0" xSize="20000" ySize="20000" /> <DstRect xOff="420000" yOff="1980000" xSize="20000" ySize="20000" /> <NODATA>0</NODATA> </ComplexSource> <ComplexSource> <SourceFilename relativeToVRT="1">./2024_FEMA_FL_17RLL3628_RGBN.tif</SourceFilename> <SourceBand>1</SourceBand> <SourceProperties RasterXSize="20000" RasterYSize="20000" DataType="Byte" BlockXSize="512" BlockYSize="512" /> <SrcRect xOff="0" yOff="0" xSize="20000" ySize="20000" /> <DstRect xOff="420000" yOff="1960000" xSize="20000" ySize="20000" /> <NODATA>0</NODATA> </ComplexSource> <ComplexSource> <SourceFilename relativeToVRT="1">./2024_FEMA_FL_17RLL3629_RGBN.tif</SourceFilename> <SourceBand>1</SourceBand> <SourceProperties RasterXSize="20000" RasterYSize="20000" DataType="Byte" BlockXSize="512" BlockYSize="512" /> <SrcRect xOff="0" yOff="0" xSize="20000" ySize="20000" /> <DstRect xOff="420000" yOff="1940000" xSize="20000" ySize="20000" /> <NODATA>0</NODATA> </ComplexSource> <ComplexSource> <SourceFilename relativeToVRT="1">./2024_FEMA_FL_17RLL3630_RGBN.tif</SourceFilename> <SourceBand>1</SourceBand> <SourceProperties RasterXSize="20000" RasterYSize="20000" DataType="Byte" BlockXSize="512" BlockYSize="512" /> <SrcRect xOff="0" yOff="0" xSize="20000" ySize="20000" /> <DstRect xOff="420000" yOff="1920000" xSize="20000" ySize="20000" /> <NODATA>0</NODATA> </ComplexSource> <ComplexSource> <SourceFilename relativeToVRT="1">./2024_FEMA_FL_17RLL3631_RGBN.tif</SourceFilename> <SourceBand>1</SourceBand> <SourceProperties RasterXSize="20000" RasterYSize="20000" DataType="Byte" BlockXSize="512" BlockYSize="512" /> <SrcRect xOff="0" yOff="0" xSize="20000" ySize="20000" /> <DstRect xOff="420000" yOff="1900000" xSize="20000" ySize="20000" /> <NODATA>0</NODATA> </ComplexSource> <ComplexSource> <SourceFilename relativeToVRT="1">./2024_FEMA_FL_17RLL3632_RGBN.tif</SourceFilename> <SourceBand>1</SourceBand> <SourceProperties RasterXSize="20000" RasterYSize="20000" DataType="Byte" BlockXSize="512" BlockYSize="512" /> <SrcRect xOff="0" yOff="0" xSize="20000" ySize="20000" /> <DstRect xOff="420000" yOff="1880000" xSize="20000" ySize="20000" /> <NODATA>0</NODATA> </ComplexSource> <ComplexSource> <SourceFilename relativeToVRT="1">./2024_FEMA_FL_17RLL3633_RGBN.tif</SourceFilename> <SourceBand>1</SourceBand> <SourceProperties RasterXSize="20000" RasterYSize="20000" DataType="Byte" BlockXSize="512" BlockYSize="512" /> <SrcRect xOff="0" yOff="0" xSize="20000" ySize="20000" /> <DstRect xOff="420000" yOff="1860000" xSize="20000" ySize="20000" /> <NODATA>0</NODATA> </ComplexSource> <ComplexSource> <SourceFilename relativeToVRT="1">./2024_FEMA_FL_17RLL3634_RGBN.tif</SourceFilename> <SourceBand>1</SourceBand> <SourceProperties RasterXSize="20000" RasterYSize="20000" DataType="Byte" BlockXSize="512" BlockYSize="512" /> <SrcRect xOff="0" yOff="0" xSize="20000" ySize="20000" /> <DstRect xOff="420000" yOff="1840000" xSize="20000" ySize="20000" /> <NODATA>0</NODATA> </ComplexSource> <ComplexSource> <SourceFilename relativeToVRT="1">./2024_FEMA_FL_17RLL3635_RGBN.tif</SourceFilename> <SourceBand>1</SourceBand> <SourceProperties RasterXSize="20000" RasterYSize="20000" DataType="Byte" BlockXSize="512" BlockYSize="512" /> <SrcRect xOff="0" yOff="0" xSize="20000" ySize="20000" /> <DstRect xOff="420000" yOff="1820000" xSize="20000" ySize="20000" /> <NODATA>0</NODATA> </ComplexSource> <ComplexSource> <SourceFilename relativeToVRT="1">./2024_FEMA_FL_17RLL3725_RGBN.tif</SourceFilename> <SourceBand>1</SourceBand> <SourceProperties RasterXSize="20000" RasterYSize="20000" DataType="Byte" BlockXSize="512" BlockYSize="512" /> <SrcRect xOff="0" yOff="0" xSize="20000" ySize="20000" /> <DstRect xOff="440000" yOff="2020000" xSize="20000" ySize="20000" /> <NODATA>0</NODATA> </ComplexSource> <ComplexSource> <SourceFilename relativeToVRT="1">./2024_FEMA_FL_17RLL3726_RGBN.tif</SourceFilename> <SourceBand>1</SourceBand> <SourceProperties RasterXSize="20000" RasterYSize="20000" DataType="Byte" BlockXSize="512" BlockYSize="512" /> <SrcRect xOff="0" yOff="0" xSize="20000" ySize="20000" /> <DstRect xOff="440000" yOff="2000000" xSize="20000" ySize="20000" /> <NODATA>0</NODATA> </ComplexSource> <ComplexSource> <SourceFilename relativeToVRT="1">./2024_FEMA_FL_17RLL3727_RGBN.tif</SourceFilename> <SourceBand>1</SourceBand> <SourceProperties RasterXSize="20000" RasterYSize="20000" DataType="Byte" BlockXSize="512" BlockYSize="512" /> <SrcRect xOff="0" yOff="0" xSize="20000" ySize="20000" /> <DstRect xOff="440000" yOff="1980000" xSize="20000" ySize="20000" /> <NODATA>0</NODATA> </ComplexSource> <ComplexSource> <SourceFilename relativeToVRT="1">./2024_FEMA_FL_17RLL3728_RGBN.tif</SourceFilename> <SourceBand>1</SourceBand> <SourceProperties RasterXSize="20000" RasterYSize="20000" DataType="Byte" BlockXSize="512" BlockYSize="512" /> <SrcRect xOff="0" yOff="0" xSize="20000" ySize="20000" /> <DstRect xOff="440000" yOff="1960000" xSize="20000" ySize="20000" /> <NODATA>0</NODATA> </ComplexSource> <ComplexSource> <SourceFilename relativeToVRT="1">./2024_FEMA_FL_17RLL3729_RGBN.tif</SourceFilename> <SourceBand>1</SourceBand> <SourceProperties RasterXSize="20000" RasterYSize="20000" DataType="Byte" BlockXSize="512" BlockYSize="512" /> <SrcRect xOff="0" yOff="0" xSize="20000" ySize="20000" /> <DstRect xOff="440000" yOff="1940000" xSize="20000" ySize="20000" /> <NODATA>0</NODATA> </ComplexSource> <ComplexSource> <SourceFilename relativeToVRT="1">./2024_FEMA_FL_17RLL3730_RGBN.tif</SourceFilename> <SourceBand>1</SourceBand> <SourceProperties RasterXSize="20000" RasterYSize="20000" DataType="Byte" BlockXSize="512" BlockYSize="512" /> <SrcRect xOff="0" yOff="0" xSize="20000" ySize="20000" /> <DstRect xOff="440000" yOff="1920000" xSize="20000" ySize="20000" /> <NODATA>0</NODATA> </ComplexSource> <ComplexSource> <SourceFilename relativeToVRT="1">./2024_FEMA_FL_17RLL3731_RGBN.tif</SourceFilename> <SourceBand>1</SourceBand> <SourceProperties RasterXSize="20000" RasterYSize="20000" DataType="Byte" BlockXSize="512" BlockYSize="512" /> <SrcRect xOff="0" yOff="0" xSize="20000" ySize="20000" /> <DstRect xOff="440000" yOff="1900000" xSize="20000" ySize="20000" /> <NODATA>0</NODATA> </ComplexSource> <ComplexSource> <SourceFilename relativeToVRT="1">./2024_FEMA_FL_17RLL3732_RGBN.tif</SourceFilename> <SourceBand>1</SourceBand> <SourceProperties RasterXSize="20000" RasterYSize="20000" DataType="Byte" BlockXSize="512" BlockYSize="512" /> <SrcRect xOff="0" yOff="0" xSize="20000" ySize="20000" /> <DstRect xOff="440000" yOff="1880000" xSize="20000" ySize="20000" /> <NODATA>0</NODATA> </ComplexSource> <ComplexSource> <SourceFilename relativeToVRT="1">./2024_FEMA_FL_17RLL3733_RGBN.tif</SourceFilename> <SourceBand>1</SourceBand> <SourceProperties RasterXSize="20000" RasterYSize="20000" DataType="Byte" BlockXSize="512" BlockYSize="512" /> <SrcRect xOff="0" yOff="0" xSize="20000" ySize="20000" /> <DstRect xOff="440000" yOff="1860000" xSize="20000" ySize="20000" /> <NODATA>0</NODATA> </ComplexSource> <ComplexSource> <SourceFilename relativeToVRT="1">./2024_FEMA_FL_17RLL3824_RGBN.tif</SourceFilename> <SourceBand>1</SourceBand> <SourceProperties RasterXSize="20000" RasterYSize="20000" DataType="Byte" BlockXSize="512" BlockYSize="512" /> <SrcRect xOff="0" yOff="0" xSize="20000" ySize="20000" /> <DstRect xOff="460000" yOff="2040000" xSize="20000" ySize="20000" /> <NODATA>0</NODATA> </ComplexSource> <ComplexSource> <SourceFilename relativeToVRT="1">./2024_FEMA_FL_17RLL3825_RGBN.tif</SourceFilename> <SourceBand>1</SourceBand> <SourceProperties RasterXSize="20000" RasterYSize="20000" DataType="Byte" BlockXSize="512" BlockYSize="512" /> <SrcRect xOff="0" yOff="0" xSize="20000" ySize="20000" /> <DstRect xOff="460000" yOff="2020000" xSize="20000" ySize="20000" /> <NODATA>0</NODATA> </ComplexSource> <ComplexSource> <SourceFilename relativeToVRT="1">./2024_FEMA_FL_17RLL3826_RGBN.tif</SourceFilename> <SourceBand>1</SourceBand> <SourceProperties RasterXSize="20000" RasterYSize="20000" DataType="Byte" BlockXSize="512" BlockYSize="512" /> <SrcRect xOff="0" yOff="0" xSize="20000" ySize="20000" /> <DstRect xOff="460000" yOff="2000000" xSize="20000" ySize="20000" /> <NODATA>0</NODATA> </ComplexSource> <ComplexSource> <SourceFilename relativeToVRT="1">./2024_FEMA_FL_17RLL3827_RGBN.tif</SourceFilename> <SourceBand>1</SourceBand> <SourceProperties RasterXSize="20000" RasterYSize="20000" DataType="Byte" BlockXSize="512" BlockYSize="512" /> <SrcRect xOff="0" yOff="0" xSize="20000" ySize="20000" /> <DstRect xOff="460000" yOff="1980000" xSize="20000" ySize="20000" /> <NODATA>0</NODATA> </ComplexSource> <ComplexSource> <SourceFilename relativeToVRT="1">./2024_FEMA_FL_17RLL3828_RGBN.tif</SourceFilename> <SourceBand>1</SourceBand> <SourceProperties RasterXSize="20000" RasterYSize="20000" DataType="Byte" BlockXSize="512" BlockYSize="512" /> <SrcRect xOff="0" yOff="0" xSize="20000" ySize="20000" /> <DstRect xOff="460000" yOff="1960000" xSize="20000" ySize="20000" /> <NODATA>0</NODATA> </ComplexSource> <ComplexSource> <SourceFilename relativeToVRT="1">./2024_FEMA_FL_17RLL3829_RGBN.tif</SourceFilename> <SourceBand>1</SourceBand> <SourceProperties RasterXSize="20000" RasterYSize="20000" DataType="Byte" BlockXSize="512" BlockYSize="512" /> <SrcRect xOff="0" yOff="0" xSize="20000" ySize="20000" /> <DstRect xOff="460000" yOff="1940000" xSize="20000" ySize="20000" /> <NODATA>0</NODATA> </ComplexSource> <ComplexSource> <SourceFilename relativeToVRT="1">./2024_FEMA_FL_17RLL3830_RGBN.tif</SourceFilename> <SourceBand>1</SourceBand> <SourceProperties RasterXSize="20000" RasterYSize="20000" DataType="Byte" BlockXSize="512" BlockYSize="512" /> <SrcRect xOff="0" yOff="0" xSize="20000" ySize="20000" /> <DstRect xOff="460000" yOff="1920000" xSize="20000" ySize="20000" /> <NODATA>0</NODATA> </ComplexSource> <ComplexSource> <SourceFilename relativeToVRT="1">./2024_FEMA_FL_17RLL3831_RGBN.tif</SourceFilename> <SourceBand>1</SourceBand> <SourceProperties RasterXSize="20000" RasterYSize="20000" DataType="Byte" BlockXSize="512" BlockYSize="512" /> <SrcRect xOff="0" yOff="0" xSize="20000" ySize="20000" /> <DstRect xOff="460000" yOff="1900000" xSize="20000" ySize="20000" /> <NODATA>0</NODATA> </ComplexSource> <ComplexSource> <SourceFilename relativeToVRT="1">./2024_FEMA_FL_17RLL3832_RGBN.tif</SourceFilename> <SourceBand>1</SourceBand> <SourceProperties RasterXSize="20000" RasterYSize="20000" DataType="Byte" BlockXSize="512" BlockYSize="512" /> <SrcRect xOff="0" yOff="0" xSize="20000" ySize="20000" /> <DstRect xOff="460000" yOff="1880000" xSize="20000" ySize="20000" /> <NODATA>0</NODATA> </ComplexSource> <ComplexSource> <SourceFilename relativeToVRT="1">./2024_FEMA_FL_17RLL3922_RGBN.tif</SourceFilename> <SourceBand>1</SourceBand> <SourceProperties RasterXSize="20000" RasterYSize="20000" DataType="Byte" BlockXSize="512" BlockYSize="512" /> <SrcRect xOff="0" yOff="0" xSize="20000" ySize="20000" /> <DstRect xOff="480000" yOff="2080000" xSize="20000" ySize="20000" /> <NODATA>0</NODATA> </ComplexSource> <ComplexSource> <SourceFilename relativeToVRT="1">./2024_FEMA_FL_17RLL3923_RGBN.tif</SourceFilename> <SourceBand>1</SourceBand> <SourceProperties RasterXSize="20000" RasterYSize="20000" DataType="Byte" BlockXSize="512" BlockYSize="512" /> <SrcRect xOff="0" yOff="0" xSize="20000" ySize="20000" /> <DstRect xOff="480000" yOff="2060000" xSize="20000" ySize="20000" /> <NODATA>0</NODATA> </ComplexSource> <ComplexSource> <SourceFilename relativeToVRT="1">./2024_FEMA_FL_17RLL3924_RGBN.tif</SourceFilename