0.1000000000
0.0000000000
0.0000000000
-0.1000000000
419000.0500000000
2901999.9500000002
