0.1000000000
0.0000000000
0.0000000000
-0.1000000000
418000.0500000000
2906999.9500000002
