0.1000000000
0.0000000000
0.0000000000
-0.1000000000
417000.0500000000
2912999.9500000002
