0.1000000000
0.0000000000
0.0000000000
-0.1000000000
417000.0500000000
2910999.9500000002
