0.1000000000
0.0000000000
0.0000000000
-0.1000000000
416000.0500000000
2913999.9500000002
