0.1000000000
0.0000000000
0.0000000000
-0.1000000000
415000.0500000000
2919999.9500000002
