0.1000000000
0.0000000000
0.0000000000
-0.1000000000
414000.0500000000
2920999.9500000002
