0.0500000000
0.0000000000
0.0000000000
-0.0500000000
414000.0250000000
2911999.9750000001
