0.1000000000
0.0000000000
0.0000000000
-0.1000000000
413000.0500000000
2921999.9500000002
