0.0500000000
0.0000000000
0.0000000000
-0.0500000000
413000.0250000000
2914999.9750000001
