0.1000000000
0.0000000000
0.0000000000
-0.1000000000
410000.0500000000
2923999.9500000002
