0.0500000000
0.0000000000
0.0000000000
-0.0500000000
410000.0250000000
2922999.9750000001
