0.1000000000
0.0000000000
0.0000000000
-0.1000000000
403000.0500000000
2929999.9500000002
