0.1000000000
0.0000000000
0.0000000000
-0.1000000000
430000.0500000000
2866999.9500000002
