0.1000000000
0.0000000000
0.0000000000
-0.1000000000
429000.0500000000
2865999.9500000002
