0.1000000000
0.0000000000
0.0000000000
-0.1000000000
428000.0500000000
2872999.9500000002
