0.1000000000
0.0000000000
0.0000000000
-0.1000000000
427000.0500000000
2870999.9500000002
