0.0500000000
0.0000000000
0.0000000000
-0.0500000000
427000.0250000000
2862999.9750000001
