0.1000000000
0.0000000000
0.0000000000
-0.1000000000
426000.0500000000
2876999.9500000002
