0.1000000000
0.0000000000
0.0000000000
-0.1000000000
425000.0500000000
2878999.9500000002
