0.1000000000
0.0000000000
0.0000000000
-0.1000000000
423000.0500000000
2880999.9500000002
