0.1000000000
0.0000000000
0.0000000000
-0.1000000000
422000.0500000000
2885999.9500000002
