0.1000000000
0.0000000000
0.0000000000
-0.1000000000
421000.0500000000
2888999.9500000002
