0.1000000000
0.0000000000
0.0000000000
-0.1000000000
420000.0500000000
2893999.9500000002
