0.1000000000
0.0000000000
0.0000000000
-0.1000000000
322000.0500000000
3100999.9500000002
