0.0500000000
0.0000000000
0.0000000000
-0.0500000000
321000.0250000000
3120999.9750000001
