0.0500000000
0.0000000000
0.0000000000
-0.0500000000
355000.0250000000
3000999.9750000001
